BEGIN:VCALENDAR
VERSION:2.0
PRODID:-//wp-events-plugin.com//7.2.3.1//EN
TZID:America/New_York
X-WR-TIMEZONE:America/New_York
BEGIN:VEVENT
UID:4175@ahavatachim.org
DTSTART;TZID=America/New_York:20220625T160000
DTEND;TZID=America/New_York:20220625T160000
DTSTAMP:20221229T030259Z
URL:https://www.ahavatachim.org/events/stay-play-3/
SUMMARY:Stay & Play
DESCRIPTION:On Shabbat\, June 25th at 4:00 PM children of all ages are invi
 ted to a Stay &amp\; Play taking place at the home of Rebecca and Jay Herm
 an. &nbsp\;Parents and children will enjoy time together and as a&nbsp\;sp
 ecial treat\,&nbsp\;Hudi Assouline will be leading a special program at th
 e event. &nbsp\;&nbsp\;&nbsp\;&nbsp\;
ATTACH;FMTTYPE=image/jpeg:https://www.ahavatachim.org/wp-content/uploads/2
 022/06/StayPlay6.25-pdf.jpg
CATEGORIES:Featured,Youth Programs
END:VEVENT
BEGIN:VTIMEZONE
TZID:America/New_York
X-LIC-LOCATION:America/New_York
BEGIN:DAYLIGHT
DTSTART:20220313T030000
TZOFFSETFROM:-0500
TZOFFSETTO:-0400
TZNAME:EDT
END:DAYLIGHT
END:VTIMEZONE
END:VCALENDAR