BEGIN:VCALENDAR
VERSION:2.0
PRODID:-//wp-events-plugin.com//7.2.3.1//EN
TZID:America/New_York
X-WR-TIMEZONE:America/New_York
BEGIN:VEVENT
UID:4179@ahavatachim.org
DTSTART;TZID=America/New_York:20220820T160000
DTEND;TZID=America/New_York:20220820T160000
DTSTAMP:20221229T030233Z
URL:https://www.ahavatachim.org/events/stay-play-6/
SUMMARY:Stay & Play
DESCRIPTION:On Shabbat\, Aug 20th at 4 PM children of all ages are invited 
 to a Stay &amp\; Play taking place at the home of Jacob Sandler.&nbsp\; Pa
 rents and children will enjoy time together.
ATTACH;FMTTYPE=image/jpeg:https://www.ahavatachim.org/wp-content/uploads/2
 022/06/image0-3.jpeg
CATEGORIES:Featured,Youth Programs
END:VEVENT
BEGIN:VTIMEZONE
TZID:America/New_York
X-LIC-LOCATION:America/New_York
BEGIN:DAYLIGHT
DTSTART:20220313T030000
TZOFFSETFROM:-0500
TZOFFSETTO:-0400
TZNAME:EDT
END:DAYLIGHT
END:VTIMEZONE
END:VCALENDAR