BEGIN:VCALENDAR
VERSION:2.0
PRODID:-//wp-events-plugin.com//7.2.3.1//EN
TZID:America/New_York
X-WR-TIMEZONE:America/New_York
BEGIN:VEVENT
UID:4181@ahavatachim.org
DTSTART;TZID=America/New_York:20220917T150000
DTEND;TZID=America/New_York:20220917T150000
DTSTAMP:20221229T030233Z
URL:https://www.ahavatachim.org/events/stay-play-7/
SUMMARY:Stay & Play
DESCRIPTION:Young Families Mix &amp\; Munch Lunch after kiddush (hosts tbd)
 \, followed by dessert and a Stay &amp\; Play at the Santacruz abode\, 19-
 06 Jordan Rd.\, at 3:00 PM!
ATTACH;FMTTYPE=image/jpeg:https://www.ahavatachim.org/wp-content/uploads/2
 022/07/image0-5.jpeg
CATEGORIES:Featured,Youth Programs
END:VEVENT
BEGIN:VTIMEZONE
TZID:America/New_York
X-LIC-LOCATION:America/New_York
BEGIN:DAYLIGHT
DTSTART:20220313T030000
TZOFFSETFROM:-0500
TZOFFSETTO:-0400
TZNAME:EDT
END:DAYLIGHT
END:VTIMEZONE
END:VCALENDAR