BEGIN:VCALENDAR
VERSION:2.0
PRODID:-//wp-events-plugin.com//7.2.3.1//EN
TZID:America/New_York
X-WR-TIMEZONE:America/New_York
BEGIN:VEVENT
UID:4630@ahavatachim.org
DTSTART;TZID=America/New_York:20230304T164500
DTEND;TZID=America/New_York:20230304T164500
DTSTAMP:20230207T010319Z
URL:https://www.ahavatachim.org/events/stay-play-seudat-shelishit-glow-in-
 the-dark-havdalah/
SUMMARY:Stay & Play: Seudat Shelishit & Glow-in-the-Dark Havdalah
DESCRIPTION:March 4th - Stay &amp\; Play: Seudat Shelishit &amp\; Glow-in-t
 he-Dark Havdalah\, starting 4:45pm.&nbsp\;\nRSVP youth@ahavatachim.org by 
 3/1\n&nbsp\;
ATTACH;FMTTYPE=image/jpeg:https://www.ahavatachim.org/wp-content/uploads/2
 023/02/image0.jpeg
CATEGORIES:Featured,Youth Programs
END:VEVENT
BEGIN:VTIMEZONE
TZID:America/New_York
X-LIC-LOCATION:America/New_York
BEGIN:STANDARD
DTSTART:20221106T010000
TZOFFSETFROM:-0400
TZOFFSETTO:-0500
TZNAME:EST
END:STANDARD
END:VTIMEZONE
END:VCALENDAR