BEGIN:VCALENDAR
VERSION:2.0
PRODID:-//wp-events-plugin.com//7.2.3.1//EN
TZID:America/New_York
X-WR-TIMEZONE:America/New_York
BEGIN:VEVENT
UID:4073@ahavatachim.org
DTSTART;TZID=America/New_York:20210922T160000
DTEND;TZID=America/New_York:20210922T160000
DTSTAMP:20210906T173352Z
URL:https://www.ahavatachim.org/events/stay-play-succot-edition/
SUMMARY:Stay & Play: Succot Edition
DESCRIPTION:Click on image to view\n
ATTACH;FMTTYPE=image/jpeg:https://www.ahavatachim.org/wp-content/uploads/2
 021/09/SukkotStayandPlay.jpeg
CATEGORIES:Limited Series,Youth Programs
END:VEVENT
BEGIN:VTIMEZONE
TZID:America/New_York
X-LIC-LOCATION:America/New_York
BEGIN:DAYLIGHT
DTSTART:20210314T030000
TZOFFSETFROM:-0500
TZOFFSETTO:-0400
TZNAME:EDT
END:DAYLIGHT
END:VTIMEZONE
END:VCALENDAR