BEGIN:VCALENDAR
VERSION:2.0
PRODID:-//wp-events-plugin.com//7.2.3.1//EN
TZID:America/New_York
X-WR-TIMEZONE:America/New_York
BEGIN:VEVENT
UID:4203@ahavatachim.org
DTSTART;TZID=America/New_York:20221010T160000
DTEND;TZID=America/New_York:20221010T180000
DTSTAMP:20221230T015142Z
URL:https://www.ahavatachim.org/events/sukkah-skip-event/
SUMMARY:BakeOff Sukkah Hop
DESCRIPTION:The Great British BakeOff Sukkah hop\, with fall themed dessert
 s at each stop\, will be on the 1st day of Sukkot\, Monday\, Oct. 10.
END:VEVENT
BEGIN:VTIMEZONE
TZID:America/New_York
X-LIC-LOCATION:America/New_York
BEGIN:DAYLIGHT
DTSTART:20220313T030000
TZOFFSETFROM:-0500
TZOFFSETTO:-0400
TZNAME:EDT
END:DAYLIGHT
END:VTIMEZONE
END:VCALENDAR