BEGIN:VCALENDAR
VERSION:2.0
PRODID:-//wp-events-plugin.com//7.2.3.1//EN
TZID:America/New_York
X-WR-TIMEZONE:America/New_York
BEGIN:VEVENT
UID:4067@ahavatachim.org
DTSTART;TZID=America/New_York:20210912T153000
DTEND;TZID=America/New_York:20210912T153000
DTSTAMP:20210906T173605Z
URL:https://www.ahavatachim.org/events/sukkot-craft-pizza-party/
SUMMARY:Sukkot Craft & Pizza Party
DESCRIPTION:Click image below\n
ATTACH;FMTTYPE=image/jpeg:https://www.ahavatachim.org/wp-content/uploads/2
 021/08/SukkotCraft-2.jpeg
CATEGORIES:Limited Series,Youth Programs
END:VEVENT
BEGIN:VTIMEZONE
TZID:America/New_York
X-LIC-LOCATION:America/New_York
BEGIN:DAYLIGHT
DTSTART:20210314T030000
TZOFFSETFROM:-0500
TZOFFSETTO:-0400
TZNAME:EDT
END:DAYLIGHT
END:VTIMEZONE
END:VCALENDAR