BEGIN:VCALENDAR
VERSION:2.0
PRODID:-//wp-events-plugin.com//7.2.3.1//EN
TZID:America/New_York
X-WR-TIMEZONE:America/New_York
BEGIN:VEVENT
UID:4174@ahavatachim.org
DTSTART;TZID=America/New_York:20220710T160000
DTEND;TZID=America/New_York:20220710T160000
DTSTAMP:20220630T164112Z
URL:https://www.ahavatachim.org/events/summer-community-day/
SUMMARY:Summer Community Day
DESCRIPTION:\n\n&nbsp\;
ATTACH;FMTTYPE=image/jpeg:https://www.ahavatachim.org/wp-content/uploads/2
 022/06/Screen-Shot-2022-06-30-at-12.38.30-PM.png
CATEGORIES:Featured,Shul Events
END:VEVENT
BEGIN:VTIMEZONE
TZID:America/New_York
X-LIC-LOCATION:America/New_York
BEGIN:DAYLIGHT
DTSTART:20220313T030000
TZOFFSETFROM:-0500
TZOFFSETTO:-0400
TZNAME:EDT
END:DAYLIGHT
END:VTIMEZONE
END:VCALENDAR