BEGIN:VCALENDAR
VERSION:2.0
PRODID:-//wp-events-plugin.com//7.2.3.1//EN
TZID:America/New_York
X-WR-TIMEZONE:America/New_York
BEGIN:VEVENT
UID:4802@ahavatachim.org
DTSTART;TZID=America/New_York:20240707T091500
DTEND;TZID=America/New_York:20240707T091500
DTSTAMP:20240621T000914Z
URL:https://www.ahavatachim.org/events/summer-musical-hallel-community-bre
 akfast/
SUMMARY:Summer Musical Hallel + Community Breakfast
DESCRIPTION:We're back for another round of Musical Hallel! Come celebrate 
 Rosh Chodesh Tammuz with us on Sunday July 7th during a special Shacharit 
 minyan at 9:15AM followed by a community bagel breakfast!\n\nSchedule will
  be as follows:\n\n\n 	\n9:15AM - Shacharit Begins\n\n 	\n9:15AM -&nbsp\; 
 Youth Summer Art Project available in the Lobby\n\n 	\n~9:35AM - Musical H
 allel Begins\n\n 	\n~10:30AM -&nbsp\; Bagel Breakfast at the Playground Pi
 cnic Tables\n\n\n&nbsp\;\nAll are invited to attend! Please visit&nbsp\;ti
 nyurl.com/SummerHallel2024&nbsp\;to RSVP or make a contribution to sponsor
  the bagel breakfast.\n\np.s. the regular 8AM Shacharit minyan on July 7th
  will also proceed as usual
ATTACH;FMTTYPE=image/jpeg:https://www.ahavatachim.org/wp-content/uploads/2
 024/06/musicalhallel.png
CATEGORIES:Featured,Shul Events
END:VEVENT
BEGIN:VTIMEZONE
TZID:America/New_York
X-LIC-LOCATION:America/New_York
BEGIN:DAYLIGHT
DTSTART:20240310T030000
TZOFFSETFROM:-0500
TZOFFSETTO:-0400
TZNAME:EDT
END:DAYLIGHT
END:VTIMEZONE
END:VCALENDAR