BEGIN:VCALENDAR
VERSION:2.0
PRODID:-//wp-events-plugin.com//7.2.3.1//EN
TZID:America/New_York
X-WR-TIMEZONE:America/New_York
BEGIN:VEVENT
UID:4032@ahavatachim.org
DTSTART;TZID=America/New_York:20210815T110000
DTEND;TZID=America/New_York:20210815T110000
DTSTAMP:20210701T025333Z
URL:https://www.ahavatachim.org/events/summer-tie-dye-party/
SUMMARY:Summer Tie Dye Party
DESCRIPTION:Click on image to enlarge\n
ATTACH;FMTTYPE=image/jpeg:https://www.ahavatachim.org/wp-content/uploads/2
 021/06/TieDye.jpeg
CATEGORIES:Featured,Youth Programs
END:VEVENT
BEGIN:VTIMEZONE
TZID:America/New_York
X-LIC-LOCATION:America/New_York
BEGIN:DAYLIGHT
DTSTART:20210314T030000
TZOFFSETFROM:-0500
TZOFFSETTO:-0400
TZNAME:EDT
END:DAYLIGHT
END:VTIMEZONE
END:VCALENDAR