BEGIN:VCALENDAR
VERSION:2.0
PRODID:-//wp-events-plugin.com//7.2.3.1//EN
TZID:America/New_York
X-WR-TIMEZONE:America/New_York
BEGIN:VEVENT
UID:4616@ahavatachim.org
DTSTART;TZID=America/New_York:20230211T110000
DTEND;TZID=America/New_York:20230211T110000
DTSTAMP:20230120T020831Z
URL:https://www.ahavatachim.org/events/super-bowl-kiddush-and-chulent-cook
 off/
SUMMARY:Super Bowl Kiddush and Chulent Cookoff
DESCRIPTION:Link to Sponsor/Sign Up:&nbsp\;&nbsp\;https://forms.gle/L6BxVdo
 gxYdjkoHv8
ATTACH;FMTTYPE=image/jpeg:https://www.ahavatachim.org/wp-content/uploads/2
 023/01/Super-Bowl-KiddushV2pdf-1-pdf.jpg
CATEGORIES:Featured,Shul Events
END:VEVENT
BEGIN:VTIMEZONE
TZID:America/New_York
X-LIC-LOCATION:America/New_York
BEGIN:STANDARD
DTSTART:20221106T010000
TZOFFSETFROM:-0400
TZOFFSETTO:-0500
TZNAME:EST
END:STANDARD
END:VTIMEZONE
END:VCALENDAR