BEGIN:VCALENDAR
VERSION:2.0
PRODID:-//wp-events-plugin.com//7.2.3.1//EN
TZID:America/New_York
X-WR-TIMEZONE:America/New_York
BEGIN:VEVENT
UID:4101@ahavatachim.org
DTSTART;TZID=America/New_York:20220214T201500
DTEND;TZID=America/New_York:20220214T211500
DTSTAMP:20211014T183613Z
URL:https://www.ahavatachim.org/events/talmud-4-all-2022-02-14/
SUMMARY:Talmud 4 All
DESCRIPTION:
ATTACH;FMTTYPE=image/jpeg:https://www.ahavatachim.org/wp-content/uploads/2
 020/11/Gemara-learning-2-W400x300.jpg
CATEGORIES:Adult Learning Classes
END:VEVENT
BEGIN:VTIMEZONE
TZID:America/New_York
X-LIC-LOCATION:America/New_York
BEGIN:STANDARD
DTSTART:20211107T010000
TZOFFSETFROM:-0400
TZOFFSETTO:-0500
TZNAME:EST
END:STANDARD
END:VTIMEZONE
END:VCALENDAR