BEGIN:VCALENDAR
VERSION:2.0
PRODID:-//wp-events-plugin.com//7.2.3.1//EN
TZID:America/New_York
X-WR-TIMEZONE:America/New_York
BEGIN:VEVENT
UID:3802@ahavatachim.org
DTSTART;TZID=America/New_York:20210101T130000
DTEND;TZID=America/New_York:20210101T140000
DTSTAMP:20201229T225601Z
URL:https://www.ahavatachim.org/events/teen-boys-bike-race/
SUMMARY:Teen Boys Bike Race
DESCRIPTION:Teen boys are invited to join a bike race in Saddle River Park 
 on January 1st at 1 PM! Join your friends for a fun competition\, some fre
 sh air and exercise!&nbsp\;\n&nbsp\;\nRSVP to&nbsp\;kira.batist.msw@gmail.
 com&nbsp\;by 12/31. A signed waiver must be submitted&nbsp\;before event a
 ttendance. You will receive the&nbsp\;waiver upon RSVP.&nbsp\;
ATTACH;FMTTYPE=image/jpeg:https://www.ahavatachim.org/wp-content/uploads/2
 020/12/BikeRace.jpeg
CATEGORIES:Featured,Youth Programs
END:VEVENT
BEGIN:VTIMEZONE
TZID:America/New_York
X-LIC-LOCATION:America/New_York
BEGIN:STANDARD
DTSTART:20201101T010000
TZOFFSETFROM:-0400
TZOFFSETTO:-0500
TZNAME:EST
END:STANDARD
END:VTIMEZONE
END:VCALENDAR