BEGIN:VCALENDAR
VERSION:2.0
PRODID:-//wp-events-plugin.com//7.2.3.1//EN
TZID:America/New_York
X-WR-TIMEZONE:America/New_York
BEGIN:VEVENT
UID:4129@ahavatachim.org
DTSTART;TZID=America/New_York;VALUE=DATE:20211125
DTEND;TZID=America/New_York;VALUE=DATE:20211126
DTSTAMP:20211110T215649Z
URL:https://www.ahavatachim.org/events/thanksgiving-day-activities/
SUMMARY:Thanksgiving Day Activities
DESCRIPTION:Flag Football at Edison Park—November 25 at 9:30am\n\nDeliver
  pies to the local Police\, Fire Department and EMS - 12:00pm - 1:00 pm\n\
 nGive &amp\; Get Pie Baking—bake a pay to exchange with another shul mem
 ber - all day\n\nPICK AND CHOOSE ANY OR ALL\n\nSIGN UP&nbsp\; BY CLICKING 
 HERE.\n\n&nbsp\;
ATTACH;FMTTYPE=image/jpeg:https://www.ahavatachim.org/wp-content/uploads/2
 021/11/AA-Thanksgiving-Day-Flyer.png
CATEGORIES:Featured,Shul Events
END:VEVENT
BEGIN:VTIMEZONE
TZID:America/New_York
X-LIC-LOCATION:America/New_York
BEGIN:STANDARD
DTSTART:20211107T010000
TZOFFSETFROM:-0400
TZOFFSETTO:-0500
TZNAME:EST
END:STANDARD
END:VTIMEZONE
END:VCALENDAR