BEGIN:VCALENDAR
VERSION:2.0
PRODID:-//wp-events-plugin.com//7.2.3.1//EN
TZID:America/New_York
X-WR-TIMEZONE:America/New_York
BEGIN:VEVENT
UID:4162@ahavatachim.org
DTSTART;TZID=America/New_York:20220409T181500
DTEND;TZID=America/New_York:20220409T190000
DTSTAMP:20220222T234155Z
URL:https://www.ahavatachim.org/events/the-mitzvah-of-honoring-parents-in-
 concept-and-practice-2/
SUMMARY:The mitzvah of honoring parents in Concept and Practice
DESCRIPTION:Join us for Shiur in the 5 part Series by Rav Shua Katz on "The
  mitzvah of honoring parents in Concept and Practice": Through the lens of
  Talmudic methodology\, gain the insight and perspective of our sages on a
  complex\, central and meaningful mitzvah.&nbsp\;
ATTACH;FMTTYPE=image/jpeg:https://www.ahavatachim.org/wp-content/uploads/2
 020/11/Test3.jpg
CATEGORIES:Adult Learning Classes,Featured,Shul Events
END:VEVENT
BEGIN:VTIMEZONE
TZID:America/New_York
X-LIC-LOCATION:America/New_York
BEGIN:DAYLIGHT
DTSTART:20220313T030000
TZOFFSETFROM:-0500
TZOFFSETTO:-0400
TZNAME:EDT
END:DAYLIGHT
END:VTIMEZONE
END:VCALENDAR