BEGIN:VCALENDAR
VERSION:2.0
PRODID:-//wp-events-plugin.com//7.2.3.1//EN
TZID:America/New_York
X-WR-TIMEZONE:America/New_York
BEGIN:VEVENT
UID:4774@ahavatachim.org
DTSTART;TZID=America/New_York:20240330T213000
DTEND;TZID=America/New_York:20240330T213000
DTSTAMP:20240311T145745Z
URL:https://www.ahavatachim.org/events/trivia-night-for-adults/
SUMMARY:Trivia Night for Adults
DESCRIPTION:Bring your competitive spirit to the table for a night of&nbsp\
 ;gaming&nbsp\;and laughter on Saturday\, March 30th at 9:30pm! The Oppenhe
 ims have graciously agreed to run this year's Trivia Night\, so you won't 
 want to miss out!\nRSVP by 3/25 if you want to show off your trivia knowle
 dge and challenge your friends and family!\n&nbsp\;\n$10 per person\n&nbsp
 \;\nSIGN-UP
ATTACH;FMTTYPE=image/jpeg:https://www.ahavatachim.org/wp-content/uploads/2
 024/03/AA-Trivia-Night-2024-pdf.jpg
CATEGORIES:Featured,Shul Events
END:VEVENT
BEGIN:VTIMEZONE
TZID:America/New_York
X-LIC-LOCATION:America/New_York
BEGIN:DAYLIGHT
DTSTART:20240310T030000
TZOFFSETFROM:-0500
TZOFFSETTO:-0400
TZNAME:EDT
END:DAYLIGHT
END:VTIMEZONE
END:VCALENDAR