BEGIN:VCALENDAR
VERSION:2.0
PRODID:-//wp-events-plugin.com//7.2.3.1//EN
TZID:America/New_York
X-WR-TIMEZONE:America/New_York
BEGIN:VEVENT
UID:3844@ahavatachim.org
DTSTART;TZID=America/New_York;VALUE=DATE:20210125
DTEND;TZID=America/New_York;VALUE=DATE:20210126
DTSTAMP:20210113T202201Z
URL:https://www.ahavatachim.org/events/tu-bishvat-drawing-contest/
SUMMARY:Tu Bishvat Drawing Contest
DESCRIPTION:Children ages 3-11 are invited to enter our Tu Bishvat Drawing 
 Contest!&nbsp\;\n&nbsp\;\nDraw a picture related to Tu Bishvat and email i
 t to&nbsp\;kira.batist.msw@gmail.com&nbsp\;by 1/25/2021.&nbsp\;\n&nbsp\;\n
 Winners will get an $18 gift card to use at any local kosher establishment
 !\n&nbsp\;\nAll entries will be featured in the bulletin!\n&nbsp\;\nSee th
 e attached bulletin with more details.
ATTACH;FMTTYPE=image/jpeg:https://www.ahavatachim.org/wp-content/uploads/2
 021/01/TuBishvatDrawingContest.jpeg
CATEGORIES:Featured,Youth Programs
END:VEVENT
BEGIN:VTIMEZONE
TZID:America/New_York
X-LIC-LOCATION:America/New_York
BEGIN:STANDARD
DTSTART:20201101T010000
TZOFFSETFROM:-0400
TZOFFSETTO:-0500
TZNAME:EST
END:STANDARD
END:VTIMEZONE
END:VCALENDAR