BEGIN:VCALENDAR
VERSION:2.0
PRODID:-//wp-events-plugin.com//7.2.3.1//EN
TZID:America/New_York
X-WR-TIMEZONE:America/New_York
BEGIN:VEVENT
UID:2179@ahavatachim.org
DTSTART;TZID=America/New_York:20201006T203000
DTEND;TZID=America/New_York:20201006T220000
DTSTAMP:20200927T211047Z
URL:https://www.ahavatachim.org/events/virtual-parlor-meeting/
SUMMARY:Virtual Parlor Meeting
DESCRIPTION:[pdf-embedder url="https://www.ahavatachim.org/wp-content/uploa
 ds/2020/09/ParlorMeeting2-Facebook-Post.pdf"]
CATEGORIES:Shul Events,Upcoming Events
END:VEVENT
BEGIN:VTIMEZONE
TZID:America/New_York
X-LIC-LOCATION:America/New_York
BEGIN:DAYLIGHT
DTSTART:20200308T030000
TZOFFSETFROM:-0500
TZOFFSETTO:-0400
TZNAME:EDT
END:DAYLIGHT
END:VTIMEZONE
END:VCALENDAR