BEGIN:VCALENDAR
VERSION:2.0
PRODID:-//wp-events-plugin.com//7.2.3.1//EN
TZID:America/New_York
X-WR-TIMEZONE:America/New_York
BEGIN:VEVENT
UID:3846@ahavatachim.org
DTSTART;TZID=America/New_York:20210214T200000
DTEND;TZID=America/New_York:20210214T210000
DTSTAMP:20210126T191703Z
URL:https://www.ahavatachim.org/events/virtual-trivia-night/
SUMMARY:Virtual Trivia Night
DESCRIPTION:We are so thrilled to announce that we were able to figure out 
 how to keep some of our shul traditions alive during this long COVID quara
 ntine\, and that we will be hosting our annual Trivia Night over Zoom this
  year!&nbsp\;&nbsp\;\n&nbsp\;\nHoward Eisenstadter is all set to be our em
 cee on Sunday\, February 14th at 8pm\, and lead us through a night filled 
 with fun\, laughter\, and trivia!&nbsp\; It's&nbsp\;$5 per entry&nbsp\;(th
 at's per screen if you want to create a little more competition within you
 r household) and we've got some&nbsp\;yummy&nbsp\;prizes lined up for our 
 winners!&nbsp\;&nbsp\;\n&nbsp\;\nSign up by 2/13&nbsp\;if you want to show
  us your trivia knowledge and have&nbsp\;a great night with us!&nbsp\; Thi
 s event is open to everyone\, so feel free to challenge your friends and f
 amily!&nbsp\;&nbsp\;
ATTACH;FMTTYPE=image/jpeg:https://www.ahavatachim.org/wp-content/uploads/2
 021/01/AA-Trivia-Night.png
CATEGORIES:Featured,Shul Events
END:VEVENT
BEGIN:VTIMEZONE
TZID:America/New_York
X-LIC-LOCATION:America/New_York
BEGIN:STANDARD
DTSTART:20201101T010000
TZOFFSETFROM:-0400
TZOFFSETTO:-0500
TZNAME:EST
END:STANDARD
END:VTIMEZONE
END:VCALENDAR