BEGIN:VCALENDAR
VERSION:2.0
PRODID:-//wp-events-plugin.com//7.2.3.1//EN
TZID:America/New_York
X-WR-TIMEZONE:America/New_York
BEGIN:VEVENT
UID:3855@ahavatachim.org
DTSTART;TZID=America/New_York:20210313T200000
DTEND;TZID=America/New_York:20210313T200000
DTSTAMP:20210307T193242Z
URL:https://www.ahavatachim.org/events/virtual-wine-tasting/
SUMMARY:Virtual Wine Tasting
DESCRIPTION:Would you like to be drinking fantastic wine with friends this 
 time next week?&nbsp\;&nbsp\;\nTime is running out to RSVP for our Virtual
  Wine Tasting!&nbsp\; Choose from 3 tasting packages with 5 wines each\; w
 hite\, red\, or a mix!&nbsp\; We look forward to enjoying a drink with you
 !\n\n\n 	\nDeadline: 3/10\n\n 	\nEvent: 3/13 at 8pm\n\n 	\nCost: $45 per t
 asting package\n\n 	\nSign Up: https://forms.gle/zZXQDRHf4Z211VZN9\n\n
ATTACH;FMTTYPE=image/jpeg:https://www.ahavatachim.org/wp-content/uploads/2
 021/03/AA-Virtual-Wine-Tasting.png
CATEGORIES:Featured,Shul Events
END:VEVENT
BEGIN:VTIMEZONE
TZID:America/New_York
X-LIC-LOCATION:America/New_York
BEGIN:STANDARD
DTSTART:20201101T010000
TZOFFSETFROM:-0400
TZOFFSETTO:-0500
TZNAME:EST
END:STANDARD
END:VTIMEZONE
END:VCALENDAR