BEGIN:VCALENDAR
VERSION:2.0
PRODID:-//wp-events-plugin.com//7.2.3.1//EN
TZID:America/New_York
X-WR-TIMEZONE:America/New_York
BEGIN:VEVENT
UID:3854@ahavatachim.org
DTSTART;TZID=America/New_York;VALUE=DATE:20210317
DTEND;TZID=America/New_York;VALUE=DATE:20210318
DTSTAMP:20210308T074657Z
URL:https://www.ahavatachim.org/events/wine-sale-fundraiser/
SUMMARY:Wine Sale Fundraiser
DESCRIPTION:Are you ready for Pesach?&nbsp\; We've got the finishing touch 
 for your seder\; a wine sale to benefit the shul!&nbsp\; We are partnering
  with Filler Up in Teaneck this year.&nbsp\;&nbsp\;\n&nbsp\;\nFiller Up ha
 s an easy online ordering system that is linked to our PayPal.&nbsp\;&nbsp
 \;\n&nbsp\;\n\n 	\nGo to https://fillerupwines.com/.\n\n 	\nFrom their web
 site\, click on the "Shul Wine List (Members Only)" link on the left-hand 
 side of the screen.&nbsp\;&nbsp\;\n\n 	\nEnter our code "CAA"\; (for Congr
 egation Ahavat Achim).&nbsp\;\n\n 	\nChoose the wines you would like and t
 hen check out!\n\n 	\nYou will be charged a reduced cost per bottle and th
 en an 8% shul donation will be added at checkout.&nbsp\;&nbsp\;\n\n 	\nOnc
 e you click the submit button\, you will be sent to our PayPal page where 
 you will make your payment.&nbsp\;&nbsp\;\n\n 	\nIf you have any issues wi
 th the PayPal page\, checks can be sent to Gail Plotnick\, 41-42 Rhys Terr
 \, Fair Lawn\, NJ 07410.\n\n 	\nYou will receive an email confirmation of 
 your order.&nbsp\;&nbsp\;\n\n\n&nbsp\;\nOrders must be placed by MARCH 17T
 H and will be delivered to the shul for pick up by March 23rd.&nbsp\; (Exa
 ct date and time for pick-up options are still being determined.)&nbsp\;&n
 bsp\;\n&nbsp\;\nIf you have any questions or concerns\, please reach out t
 o Liz Jacob (elysheva23@gmail.com).&nbsp\;&nbsp\;
ATTACH;FMTTYPE=image/jpeg:https://www.ahavatachim.org/wp-content/uploads/2
 021/03/AA-Fundraising-Wine-Sale.png
CATEGORIES:Featured,Shul Events
END:VEVENT
BEGIN:VTIMEZONE
TZID:America/New_York
X-LIC-LOCATION:America/New_York
BEGIN:DAYLIGHT
DTSTART:20210314T030000
TZOFFSETFROM:-0500
TZOFFSETTO:-0400
TZNAME:EDT
END:DAYLIGHT
END:VTIMEZONE
END:VCALENDAR