BEGIN:VCALENDAR
VERSION:2.0
PRODID:-//wp-events-plugin.com//7.2.3.1//EN
TZID:America/New_York
X-WR-TIMEZONE:America/New_York
BEGIN:VEVENT
UID:4057@ahavatachim.org
DTSTART;TZID=America/New_York:20210802T000000
DTEND;TZID=America/New_York:20210831T000000
DTSTAMP:20210802T154808Z
URL:https://www.ahavatachim.org/events/yizkor-booklet/
SUMMARY:Yizkor Booklet
DESCRIPTION:July 20\, 2021\n\nDear Friends\,\n\nWe are compiling an updated
  Yizkor (Remembrance) Booklet to be utilized on Yom Kippur\, Shemini Atzer
 et\, Pesach and Shavuot in 5782.\n\nAs always\, this Yizkor booklet will c
 ontain the Yizkor memorial service recited for deceased loved ones. Additi
 onally\, since the Yizkor prayers include an obligation to make a charitab
 le donation in honor of the deceased\, our Yizkor booklet lists the names 
 of loved ones we ask Hashem to remember.\n\nIf you submitted names for our
  Yizkor booklet last year\, please let us know if you want the names repri
 nted in an identical manner. If there are any changes\, please advise acco
 rdingly. You can review last year’s entries by clicking here.&nbsp\;\n\n
 If you did not submit last year\, you can add your beloved ones’ name(s)
  to this year's Yizkor Booklet\, by either (1) using the online google for
 m [ Click here for online form ] OR (2) completing the attached form below
  and returning it along with your payment enclosed no later than Sunday\, 
 August 29\, 2021 to:\n\nJoyce Heller\n\n787 Ocean Ave.\, Apt 1605\n\nLong 
 Branch\, NJ 07740\n\njheller127@gmail.com\n\nListings are $20 per name. We
  accept checks or PayPal.&nbsp\; Please make checks payable to Congregatio
 nAhavat Achim\, or if using PayPal use this link http://Paypal.com/us/fund
 raiser/charity/1444321\n\nPlease don’t delay as the holidays come early 
 this year.\n\nShould you have any questions\, please email Joyce Heller at
  jheller127@gmail.com or call Joyce at 201-741-6982. We thank you for your
  participation and wish you a very Happy &amp\; Healthy New Year!
ATTACH;FMTTYPE=image/jpeg:https://www.ahavatachim.org/wp-content/uploads/2
 021/08/flame.jpeg
CATEGORIES:Limited Series,Shul Events
END:VEVENT
BEGIN:VTIMEZONE
TZID:America/New_York
X-LIC-LOCATION:America/New_York
BEGIN:DAYLIGHT
DTSTART:20210314T030000
TZOFFSETFROM:-0500
TZOFFSETTO:-0400
TZNAME:EDT
END:DAYLIGHT
END:VTIMEZONE
END:VCALENDAR