BEGIN:VCALENDAR
VERSION:2.0
PRODID:-//wp-events-plugin.com//7.2.3.1//EN
TZID:America/New_York
X-WR-TIMEZONE:America/New_York
BEGIN:VEVENT
UID:3951@ahavatachim.org
DTSTART;TZID=America/New_York:20210414T200000
DTEND;TZID=America/New_York:20210414T203000
DTSTAMP:20210414T013324Z
URL:https://www.ahavatachim.org/events/yom-haatzmaut/
SUMMARY:Yom Ha'atzmaut
DESCRIPTION:Yom Ha'atzmaut celebration outside at Ahavat Achim. This celebr
 ation event begins at 8pm and will be about 30 minutes ending with a bang!
 \nPlease RSVP HERE.&nbsp\;\n\n&nbsp\;\nLet's celebrate Israel together!\n&
 nbsp\;\nQuestions? Email Natasha&nbsp\;@&nbsp\;nbnadler@gmail.com\n
ATTACH;FMTTYPE=image/jpeg:https://www.ahavatachim.org/wp-content/uploads/2
 021/04/Celebrate-Israel-flyer.jpg
CATEGORIES:Featured,Shul Events
END:VEVENT
BEGIN:VTIMEZONE
TZID:America/New_York
X-LIC-LOCATION:America/New_York
BEGIN:DAYLIGHT
DTSTART:20210314T030000
TZOFFSETFROM:-0500
TZOFFSETTO:-0400
TZNAME:EDT
END:DAYLIGHT
END:VTIMEZONE
END:VCALENDAR