BEGIN:VCALENDAR
VERSION:2.0
PRODID:-//wp-events-plugin.com//7.2.3.1//EN
TZID:America/New_York
X-WR-TIMEZONE:America/New_York
BEGIN:VEVENT
UID:4633@ahavatachim.org
DTSTART;TZID=America/New_York:20230417T200000
DTEND;TZID=America/New_York:20230417T200000
DTSTAMP:20230414T205724Z
URL:https://www.ahavatachim.org/events/yom-hashoah-generations-of-memories
 /
SUMMARY:Yom HaShoah: Generations of Memories
DESCRIPTION:Please join us on April 17th at 8pm (on zoom) for a special Yom
  HaShoah event featuring a panel of children of survivors from our communi
 ty.\n\nThe panel will be moderated by Rabbi Shestack\nand the speakers wil
 l include: Cary Reichardt\,\nZahava Baron\, Shelly Winchester\, Arnie Spie
 r\,\nDavid Garfunkel\, and others.\n\nZoom link: https://us06web.zoom.us/j
 /2477505022\nPassword: 112233
ATTACH;FMTTYPE=image/jpeg:https://www.ahavatachim.org/wp-content/uploads/2
 023/04/AA-Yom-Hashoah-Panel-1.png
CATEGORIES:Featured,Shul Events
END:VEVENT
BEGIN:VTIMEZONE
TZID:America/New_York
X-LIC-LOCATION:America/New_York
BEGIN:DAYLIGHT
DTSTART:20230312T030000
TZOFFSETFROM:-0500
TZOFFSETTO:-0400
TZNAME:EDT
END:DAYLIGHT
END:VTIMEZONE
END:VCALENDAR