BEGIN:VCALENDAR
VERSION:2.0
PRODID:-//wp-events-plugin.com//7.2.3.1//EN
TZID:America/New_York
X-WR-TIMEZONE:America/New_York
BEGIN:VEVENT
UID:4784@ahavatachim.org
DTSTART;TZID=America/New_York:20240505T201500
DTEND;TZID=America/New_York:20240505T201500
DTSTAMP:20240417T161951Z
URL:https://www.ahavatachim.org/events/yom-hashoah-program/
SUMMARY:Yom HaShoah Program
DESCRIPTION:
ATTACH;FMTTYPE=image/jpeg:https://www.ahavatachim.org/wp-content/uploads/2
 024/04/Yom-HaShoah-Program-2024.png
CATEGORIES:Featured,Shul Events
END:VEVENT
BEGIN:VTIMEZONE
TZID:America/New_York
X-LIC-LOCATION:America/New_York
BEGIN:DAYLIGHT
DTSTART:20240310T030000
TZOFFSETFROM:-0500
TZOFFSETTO:-0400
TZNAME:EDT
END:DAYLIGHT
END:VTIMEZONE
END:VCALENDAR