BEGIN:VCALENDAR
VERSION:2.0
PRODID:-//wp-events-plugin.com//7.2.3.1//EN
TZID:America/New_York
X-WR-TIMEZONE:America/New_York
BEGIN:VEVENT
UID:3950@ahavatachim.org
DTSTART;TZID=America/New_York:20210414T124000
DTEND;TZID=America/New_York:20210414T130000
DTSTAMP:20210414T013437Z
URL:https://www.ahavatachim.org/events/yom-hazikaron/
SUMMARY:Yom Hazikaron
DESCRIPTION:Lunchtime zoom commemoration of Yom Hazikaron with special gues
 t speaker Orit Zezon. Starting promptly at 12:40 and ending at 1pm with a 
 shared moment of silence with Israel during their 8pm siren blast.\n&nbsp\
 ;\nJoin us on zoom&nbsp\;HERE (Zoom ID: 7291311899).\n&nbsp\;\n\nLet's cel
 ebrate Israel together!\n&nbsp\;\nQuestions? Email Natasha&nbsp\;@&nbsp\;n
 bnadler@gmail.com\n&nbsp\;\n
ATTACH;FMTTYPE=image/jpeg:https://www.ahavatachim.org/wp-content/uploads/2
 021/04/Celebrate-Israel-flyer.jpg
CATEGORIES:Featured,Shul Events
END:VEVENT
BEGIN:VTIMEZONE
TZID:America/New_York
X-LIC-LOCATION:America/New_York
BEGIN:DAYLIGHT
DTSTART:20210314T030000
TZOFFSETFROM:-0500
TZOFFSETTO:-0400
TZNAME:EDT
END:DAYLIGHT
END:VTIMEZONE
END:VCALENDAR