BEGIN:VCALENDAR
VERSION:2.0
PRODID:-//wp-events-plugin.com//7.2.3.1//EN
TZID:America/New_York
X-WR-TIMEZONE:America/New_York
BEGIN:VEVENT
UID:3801@ahavatachim.org
DTSTART;TZID=America/New_York:20210130T184500
DTEND;TZID=America/New_York:20210130T191500
DTSTAMP:20201229T225321Z
URL:https://www.ahavatachim.org/events/youth-craft-event/
SUMMARY:Youth Craft Event
DESCRIPTION:Children ages 2-10 years old are invited to join us in creating
  their very own Shabbat Box!&nbsp\;\n&nbsp\;\nDecorate a special&nbsp\;box
  to store your candle sticks\, kiddush cup\, challah cover\, Shabbat&nbsp\
 ;treats and more!\n&nbsp\;\nJoin friends on zoom for an interactive craft 
 event on Saturday night\, January 30th at 6:45 PM.&nbsp\;\n&nbsp\;\nPlease
  see the attached flyers with more details and the supply list.&nbsp\;\n&n
 bsp\;\nRSVP to&nbsp\;kira.batist.msw@gmail.com&nbsp\;by January 27th for t
 he zoom link.
ATTACH;FMTTYPE=image/jpeg:https://www.ahavatachim.org/wp-content/uploads/2
 020/12/ShabbatBox.jpeg
CATEGORIES:Featured,Youth Programs
END:VEVENT
BEGIN:VTIMEZONE
TZID:America/New_York
X-LIC-LOCATION:America/New_York
BEGIN:STANDARD
DTSTART:20201101T010000
TZOFFSETFROM:-0400
TZOFFSETTO:-0500
TZNAME:EST
END:STANDARD
END:VTIMEZONE
END:VCALENDAR