BEGIN:VCALENDAR
VERSION:2.0
PRODID:-//wp-events-plugin.com//7.2.3.1//EN
TZID:America/New_York
X-WR-TIMEZONE:America/New_York
BEGIN:VEVENT
UID:3997@ahavatachim.org
DTSTART;TZID=America/New_York:20210517T101500
DTEND;TZID=America/New_York:20210518T111500
DTSTAMP:20210514T202217Z
URL:https://www.ahavatachim.org/events/youth-group-for-shavuot/
SUMMARY:Youth Group for Shavuot
DESCRIPTION:\nChildren ages 0-12 are invited to attend a fun and interactiv
 e Shavuot program on Monday\, May 17 (rain date is Tuesday 5/18)\, led by 
 Rabbi Shestack! Join your friends and take home a delicious Shavuot treat!
 \n&nbsp\;\nGroups on Monday\, May 17 and Tuesday\, May 18. Groups on Tuesd
 ay will be from 10:15-11:15 to accommodate the longer davening.&nbsp\;\n\n
 \n&nbsp\;\nIn the case of rain\, groups will be cancelled.&nbsp\;\n&nbsp\;
 \nChildren under 3 must be accompanied by a designated adult.&nbsp\; Paren
 ts of children over 3 who are interested&nbsp\;in the drop off option shou
 ld email&nbsp\;kira.batist.msw@gmail.com.&nbsp\;\n&nbsp\;\nWe are so excit
 ed&nbsp\;to see all of your children! In order to make sure that groups ar
 e fun and safe\, we ask for your cooperation in abiding by the following g
 uidelines:\n&nbsp\;\n- Children ages 2 and over must wear a mask.\n- For c
 hildren participating in the drop off option\, the designated adult who dr
 ops the child off must inform&nbsp\;the group&nbsp\;leader of where they w
 ill be located.\n- Group leaders will not accompany children&nbsp\;into a 
 bathroom stall. If a child needs to use the bathroom and requires&nbsp\;an
 y form of assistance\, they will be escorted to their parents who can assi
 st&nbsp\;them and then bring them back to the group.\n- If a child asks to
  leave the group\, a group&nbsp\;leader will inform the parent\, as they w
 ill no longer be supervised by the group leader.&nbsp\;\n&nbsp\;\nIf you h
 ave any questions\, please email&nbsp\;kira.batist.msw@gmail.com
ATTACH;FMTTYPE=image/jpeg:https://www.ahavatachim.org/wp-content/uploads/2
 021/05/Shavuot2021v2.jpeg
CATEGORIES:Featured,Youth Programs
END:VEVENT
BEGIN:VTIMEZONE
TZID:America/New_York
X-LIC-LOCATION:America/New_York
BEGIN:DAYLIGHT
DTSTART:20210314T030000
TZOFFSETFROM:-0500
TZOFFSETTO:-0400
TZNAME:EDT
END:DAYLIGHT
END:VTIMEZONE
END:VCALENDAR