BEGIN:VCALENDAR
VERSION:2.0
PRODID:-//wp-events-plugin.com//7.2.3.1//EN
TZID:America/New_York
X-WR-TIMEZONE:America/New_York
BEGIN:VEVENT
UID:4023@ahavatachim.org
DTSTART;TZID=America/New_York:20210814T160000
DTEND;TZID=America/New_York:20210814T163000
DTSTAMP:20210611T204731Z
URL:https://www.ahavatachim.org/events/youth-outdoor-activity-series-4/
SUMMARY:Youth Outdoor Activity Series
DESCRIPTION:Children ages 0-12 are invited to attend a fun and interactive 
 Shabbat afternoon program in the parking lot led by Rabbi Shestack.\n\nJoi
 n your friends and take home a delicious summer treat!\n\nClick to enlarge
 \n\n
ATTACH;FMTTYPE=image/jpeg:https://www.ahavatachim.org/wp-content/uploads/2
 021/06/June12th.jpeg
CATEGORIES:Featured,Youth Programs
END:VEVENT
BEGIN:VTIMEZONE
TZID:America/New_York
X-LIC-LOCATION:America/New_York
BEGIN:DAYLIGHT
DTSTART:20210314T030000
TZOFFSETFROM:-0500
TZOFFSETTO:-0400
TZNAME:EDT
END:DAYLIGHT
END:VTIMEZONE
END:VCALENDAR