BEGIN:VCALENDAR
VERSION:2.0
PRODID:-//wp-events-plugin.com//7.2.3.1//EN
TZID:America/New_York
X-WR-TIMEZONE:America/New_York
BEGIN:VEVENT
UID:3858@ahavatachim.org
DTSTART;TZID=America/New_York:20210328T113000
DTEND;TZID=America/New_York:20210328T120000
DTSTAMP:20210316T002029Z
URL:https://www.ahavatachim.org/events/youth-passover-groups/
SUMMARY:Youth Passover Groups
DESCRIPTION:Children ages 2-10 years old (and younger siblings) are invited
  to an exciting outdoor Passover group and reenactment on Sunday\, March 2
 8 at 11:30 AM (following davening) in the shul parking lot.&nbsp\;\n&nbsp\
 ;\nJoin us as we act out the Passover story\, sing songs and play games to
 gether!\n&nbsp\;\nStrict social distancing and masking is required for all
  parents and children over 2 years old. No child may attend groups unaccom
 panied.&nbsp\; &nbsp\; &nbsp\;\n\n&nbsp\;\nSee the attached flyer with mor
 e details.
ATTACH;FMTTYPE=image/jpeg:https://www.ahavatachim.org/wp-content/uploads/2
 021/03/PesachGroup.jpeg
CATEGORIES:Featured,Youth Programs
END:VEVENT
BEGIN:VTIMEZONE
TZID:America/New_York
X-LIC-LOCATION:America/New_York
BEGIN:DAYLIGHT
DTSTART:20210314T030000
TZOFFSETFROM:-0500
TZOFFSETTO:-0400
TZNAME:EDT
END:DAYLIGHT
END:VTIMEZONE
END:VCALENDAR