BEGIN:VCALENDAR
VERSION:2.0
PRODID:-//wp-events-plugin.com//7.2.3.1//EN
TZID:America/New_York
X-WR-TIMEZONE:America/New_York
BEGIN:VEVENT
UID:4218@ahavatachim.org
DTSTART;TZID=America/New_York:20221011T153000
DTEND;TZID=America/New_York:20221011T163000
DTSTAMP:20221229T030233Z
URL:https://www.ahavatachim.org/events/youth-succah-skip-event/
SUMMARY:Youth Sukkah Skip Event
DESCRIPTION:Bring your children to the Herman sukkah (16 Harlow Cres.) at 3
 :30 PM. With interactive holiday fun\, and then skipping to the Brooks suk
 kah (18-27 Hillery St.)!
ATTACH;FMTTYPE=image/jpeg:https://www.ahavatachim.org/wp-content/uploads/2
 022/10/SukkahSkip-1-pdf.jpg
CATEGORIES:Featured,Youth Programs
END:VEVENT
BEGIN:VTIMEZONE
TZID:America/New_York
X-LIC-LOCATION:America/New_York
BEGIN:DAYLIGHT
DTSTART:20220313T030000
TZOFFSETFROM:-0500
TZOFFSETTO:-0400
TZNAME:EDT
END:DAYLIGHT
END:VTIMEZONE
END:VCALENDAR